BEGIN:VCALENDAR
VERSION:2.0
PRODID:-//Cadda - ECPv6.13.2.1//NONSGML v1.0//EN
CALSCALE:GREGORIAN
METHOD:PUBLISH
X-WR-CALNAME:Cadda
X-ORIGINAL-URL:https://cadda.org.ar
X-WR-CALDESC:Eventos para Cadda
REFRESH-INTERVAL;VALUE=DURATION:PT1H
X-Robots-Tag:noindex
X-PUBLISHED-TTL:PT1H
BEGIN:VTIMEZONE
TZID:UTC
BEGIN:STANDARD
TZOFFSETFROM:+0000
TZOFFSETTO:+0000
TZNAME:UTC
DTSTART:20260101T000000
END:STANDARD
END:VTIMEZONE
BEGIN:VEVENT
DTSTART;TZID=UTC:20260506T080000
DTEND;TZID=UTC:20260509T170000
DTSTAMP:20260420T010117
CREATED:20260120T140522Z
LAST-MODIFIED:20260226T165027Z
UID:11500-1778054400-1778346000@cadda.org.ar
SUMMARY:NACIONAL OPEN - NATACION
DESCRIPTION:PARQUE OLIMPICO DE BUENOS AIRES \n2012 +
URL:https://cadda.org.ar/event/nacional-open-natacion/
CATEGORIES:Natacion,Natacion - Nacional
END:VEVENT
BEGIN:VEVENT
DTSTART;TZID=UTC:20260521T080000
DTEND;TZID=UTC:20260523T170000
DTSTAMP:20260420T010117
CREATED:20260120T141048Z
LAST-MODIFIED:20260120T141048Z
UID:11504-1779350400-1779555600@cadda.org.ar
SUMMARY:REPUBLICA CADETES - NATACION
DESCRIPTION:TBD \n2011 – 2012
URL:https://cadda.org.ar/event/republica-cadetes-natacion/
CATEGORIES:Natacion
END:VEVENT
END:VCALENDAR