BEGIN:VCALENDAR
VERSION:2.0
PRODID:-//Cadda - ECPv6.13.2.1//NONSGML v1.0//EN
CALSCALE:GREGORIAN
METHOD:PUBLISH
X-WR-CALNAME:Cadda
X-ORIGINAL-URL:https://cadda.org.ar
X-WR-CALDESC:Eventos para Cadda
REFRESH-INTERVAL;VALUE=DURATION:PT1H
X-Robots-Tag:noindex
X-PUBLISHED-TTL:PT1H
BEGIN:VTIMEZONE
TZID:UTC
BEGIN:STANDARD
TZOFFSETFROM:+0000
TZOFFSETTO:+0000
TZNAME:UTC
DTSTART:20260101T000000
END:STANDARD
END:VTIMEZONE
BEGIN:VEVENT
DTSTART;TZID=UTC:20260213T080000
DTEND;TZID=UTC:20260215T170000
DTSTAMP:20260420T051736
CREATED:20260207T161312Z
LAST-MODIFIED:20260207T161312Z
UID:11639-1770969600-1771174800@cadda.org.ar
SUMMARY:Artistic Swimming World Cup - MEDELLIN - NAT. ARTISTICA
DESCRIPTION:SENIOR \nMEDELLIN COLOMBIA
URL:https://cadda.org.ar/event/artistic-swimming-world-cup-medellin-nat-artistica/
CATEGORIES:Artistica
END:VEVENT
END:VCALENDAR