BEGIN:VCALENDAR
VERSION:2.0
PRODID:-//Cadda - ECPv6.13.2.1//NONSGML v1.0//EN
CALSCALE:GREGORIAN
METHOD:PUBLISH
X-ORIGINAL-URL:https://cadda.org.ar
X-WR-CALDESC:Eventos para Cadda
REFRESH-INTERVAL;VALUE=DURATION:PT1H
X-Robots-Tag:noindex
X-PUBLISHED-TTL:PT1H
BEGIN:VTIMEZONE
TZID:UTC
BEGIN:STANDARD
TZOFFSETFROM:+0000
TZOFFSETTO:+0000
TZNAME:UTC
DTSTART:20260101T000000
END:STANDARD
END:VTIMEZONE
BEGIN:VEVENT
DTSTART;VALUE=DATE:20260921
DTEND;VALUE=DATE:20260922
DTSTAMP:20260420T160312
CREATED:20260120T151505Z
LAST-MODIFIED:20260120T151505Z
UID:11587-1789948800-1790035199@cadda.org.ar
SUMMARY:ODESUR MAYORES - SUDAMERICANO - AGUAS ABIERTAS
DESCRIPTION:SANTA FE \nMAYORES
URL:https://cadda.org.ar/event/odesur-mayores-sudamericano-aguas-abiertas/
CATEGORIES:Aguas Abiertas
END:VEVENT
END:VCALENDAR