BEGIN:VCALENDAR
VERSION:2.0
PRODID:-//Cadda - ECPv6.13.2.1//NONSGML v1.0//EN
CALSCALE:GREGORIAN
METHOD:PUBLISH
X-ORIGINAL-URL:https://cadda.org.ar
X-WR-CALDESC:Eventos para Cadda
REFRESH-INTERVAL;VALUE=DURATION:PT1H
X-Robots-Tag:noindex
X-PUBLISHED-TTL:PT1H
BEGIN:VTIMEZONE
TZID:UTC
BEGIN:STANDARD
TZOFFSETFROM:+0000
TZOFFSETTO:+0000
TZNAME:UTC
DTSTART:20230101T000000
END:STANDARD
END:VTIMEZONE
BEGIN:VEVENT
DTSTART;TZID=UTC:20231216T080000
DTEND;TZID=UTC:20231219T170000
DTSTAMP:20260422T072748
CREATED:20221207T182805Z
LAST-MODIFIED:20230616T125234Z
UID:6503-1702713600-1703005200@cadda.org.ar
SUMMARY:NATACION - CAMPEONATO ARGENTINO DE MAYORES Y JUNIORS
DESCRIPTION:PARQUE OLIMPICO DE BUENOS AIRES
URL:https://cadda.org.ar/event/campeonato-argentino-de-mayores-y-juniors/
CATEGORIES:Natacion - Nacional
ATTACH;FMTTYPE=image/jpeg:https://cadda.org.ar/wp-content/uploads/2022/12/natacion-scaled.jpg
END:VEVENT
END:VCALENDAR