BEGIN:VCALENDAR
VERSION:2.0
PRODID:-//Cadda - ECPv6.13.2.1//NONSGML v1.0//EN
CALSCALE:GREGORIAN
METHOD:PUBLISH
X-ORIGINAL-URL:https://cadda.org.ar
X-WR-CALDESC:Eventos para Cadda
REFRESH-INTERVAL;VALUE=DURATION:PT1H
X-Robots-Tag:noindex
X-PUBLISHED-TTL:PT1H
BEGIN:VTIMEZONE
TZID:UTC
BEGIN:STANDARD
TZOFFSETFROM:+0000
TZOFFSETTO:+0000
TZNAME:UTC
DTSTART:20250101T000000
END:STANDARD
END:VTIMEZONE
BEGIN:VEVENT
DTSTART;TZID=UTC:20250412T080000
DTEND;TZID=UTC:20250413T170000
DTSTAMP:20260422T003339
CREATED:20250211T154521Z
LAST-MODIFIED:20250211T154521Z
UID:10789-1744444800-1744563600@cadda.org.ar
SUMMARY:POLO ACUATICO - Nacional Sub 19 Masculino
DESCRIPTION:FEDERACION ROSARINA DE NATACION \nCLUB ATLETICO PROVINCIAL
URL:https://cadda.org.ar/event/polo-acuatico-nacional-sub-19-masculino/
LOCATION:CLUB ATLETICO PROVINCIAL ROSARIO\, Blvd. 27 de Febrero 2672\, Rosario\, Santa Fe\, S2000\, Argentina
CATEGORIES:Polo
ORGANIZER;CN="FRN":MAILTO:frnatacion@gmail.com
END:VEVENT
END:VCALENDAR