BEGIN:VCALENDAR
VERSION:2.0
PRODID:-//Cadda - ECPv6.13.2.1//NONSGML v1.0//EN
CALSCALE:GREGORIAN
METHOD:PUBLISH
X-ORIGINAL-URL:https://cadda.org.ar
X-WR-CALDESC:Eventos para Cadda
REFRESH-INTERVAL;VALUE=DURATION:PT1H
X-Robots-Tag:noindex
X-PUBLISHED-TTL:PT1H
BEGIN:VTIMEZONE
TZID:UTC
BEGIN:STANDARD
TZOFFSETFROM:+0000
TZOFFSETTO:+0000
TZNAME:UTC
DTSTART:20250101T000000
END:STANDARD
END:VTIMEZONE
BEGIN:VEVENT
DTSTART;TZID=UTC:20250314T080000
DTEND;TZID=UTC:20250316T170000
DTSTAMP:20260423T001843
CREATED:20250211T144338Z
LAST-MODIFIED:20250211T145722Z
UID:10768-1741939200-1742144400@cadda.org.ar
SUMMARY:POLO ACUATICO - Nacional Primera Categoria FEMENINO A
DESCRIPTION:FEDERACION ROSARINA DE NATACION \nNAUTICO SPORTIVO AVELLANEDA (ROSARIO)
URL:https://cadda.org.ar/event/nacional-primera-categoria-femenino-a/
LOCATION:NAUTICO SPORTIVO AVELLANEDA\, Pedro Tuella 952\, Rosario\, Rosario\, s2000\, Argentina
CATEGORIES:Polo
ORGANIZER;CN="FRN":MAILTO:frnatacion@gmail.com
END:VEVENT
END:VCALENDAR