BEGIN:VCALENDAR
VERSION:2.0
PRODID:-//Cadda - ECPv6.13.2.1//NONSGML v1.0//EN
CALSCALE:GREGORIAN
METHOD:PUBLISH
X-WR-CALNAME:Cadda
X-ORIGINAL-URL:https://cadda.org.ar
X-WR-CALDESC:Eventos para Cadda
REFRESH-INTERVAL;VALUE=DURATION:PT1H
X-Robots-Tag:noindex
X-PUBLISHED-TTL:PT1H
BEGIN:VTIMEZONE
TZID:UTC
BEGIN:STANDARD
TZOFFSETFROM:+0000
TZOFFSETTO:+0000
TZNAME:UTC
DTSTART:20240101T000000
END:STANDARD
END:VTIMEZONE
BEGIN:VEVENT
DTSTART;TZID=UTC:20240712T080000
DTEND;TZID=UTC:20240713T170000
DTSTAMP:20260423T194002
CREATED:20231130T181545Z
LAST-MODIFIED:20240419T161922Z
UID:9677-1720771200-1720890000@cadda.org.ar
SUMMARY:CAMPEONATO NACIONAL DE CADETES
DESCRIPTION:SELECTIVO MOCOCA Y SUDAMERICANO ESCOLAR \nPARQUE OLIMPICO DE BUENOS AIRES
URL:https://cadda.org.ar/event/campeonato-nacional-de-cadetes-2/
LOCATION:Parque Roca\, Parque Roca\, CABA\, Buenos Aires\, Argentina
CATEGORIES:Natacion
END:VEVENT
BEGIN:VEVENT
DTSTART;TZID=UTC:20240726T080000
DTEND;TZID=UTC:20240727T170000
DTSTAMP:20260423T194002
CREATED:20231130T181801Z
LAST-MODIFIED:20240419T162011Z
UID:9679-1721980800-1722099600@cadda.org.ar
SUMMARY:CAMPEONATO NACIONAL DE JUVENILES
DESCRIPTION:SELECTIVO MOCOCA Y SUDAMERICANO ESCOLAR \nPARQUE OLIMPICO DE BUENOS AIRES
URL:https://cadda.org.ar/event/campeonato-nacional-de-juveniles-2/
LOCATION:Parque Roca\, Parque Roca\, CABA\, Buenos Aires\, Argentina
CATEGORIES:Natacion
END:VEVENT
END:VCALENDAR