BEGIN:VCALENDAR
VERSION:2.0
PRODID:-//Cadda - ECPv6.13.2.1//NONSGML v1.0//EN
CALSCALE:GREGORIAN
METHOD:PUBLISH
X-ORIGINAL-URL:https://cadda.org.ar
X-WR-CALDESC:Eventos para Cadda
REFRESH-INTERVAL;VALUE=DURATION:PT1H
X-Robots-Tag:noindex
X-PUBLISHED-TTL:PT1H
BEGIN:VTIMEZONE
TZID:UTC
BEGIN:STANDARD
TZOFFSETFROM:+0000
TZOFFSETTO:+0000
TZNAME:UTC
DTSTART:20260101T000000
END:STANDARD
END:VTIMEZONE
BEGIN:VEVENT
DTSTART;TZID=UTC:20261030T080000
DTEND;TZID=UTC:20261113T170000
DTSTAMP:20260420T075006
CREATED:20260120T143104Z
LAST-MODIFIED:20260120T143104Z
UID:11538-1793347200-1794589200@cadda.org.ar
SUMMARY:YOG DAKAR 2026 - SENEGAL - NATACION
DESCRIPTION:SENEGAL – DAKAR \n2009 –
URL:https://cadda.org.ar/event/yog-dakar-2026-senegal-natacion/
CATEGORIES:Natacion
END:VEVENT
END:VCALENDAR