BEGIN:VCALENDAR
VERSION:2.0
PRODID:-//Cadda - ECPv6.13.2.1//NONSGML v1.0//EN
CALSCALE:GREGORIAN
METHOD:PUBLISH
X-ORIGINAL-URL:https://cadda.org.ar
X-WR-CALDESC:Eventos para Cadda
REFRESH-INTERVAL;VALUE=DURATION:PT1H
X-Robots-Tag:noindex
X-PUBLISHED-TTL:PT1H
BEGIN:VTIMEZONE
TZID:UTC
BEGIN:STANDARD
TZOFFSETFROM:+0000
TZOFFSETTO:+0000
TZNAME:UTC
DTSTART:20260101T000000
END:STANDARD
END:VTIMEZONE
BEGIN:VEVENT
DTSTART;TZID=UTC:20260430T080000
DTEND;TZID=UTC:20260504T170000
DTSTAMP:20260419T233037
CREATED:20260120T150226Z
LAST-MODIFIED:20260120T150226Z
UID:11571-1777536000-1777914000@cadda.org.ar
SUMMARY:COPA PACIFICO - AGUAS ABIERTAS - ECUADOR
DESCRIPTION:ECUADOR – SALINAS \nJUVENIL MAYOR
URL:https://cadda.org.ar/event/copa-pacifico-aguas-abiertas-ecuador/
CATEGORIES:Aguas Abiertas
END:VEVENT
END:VCALENDAR