BEGIN:VCALENDAR
VERSION:2.0
PRODID:-//Cadda - ECPv6.13.2.1//NONSGML v1.0//EN
CALSCALE:GREGORIAN
METHOD:PUBLISH
X-ORIGINAL-URL:https://cadda.org.ar
X-WR-CALDESC:Eventos para Cadda
REFRESH-INTERVAL;VALUE=DURATION:PT1H
X-Robots-Tag:noindex
X-PUBLISHED-TTL:PT1H
BEGIN:VTIMEZONE
TZID:UTC
BEGIN:STANDARD
TZOFFSETFROM:+0000
TZOFFSETTO:+0000
TZNAME:UTC
DTSTART:20260101T000000
END:STANDARD
END:VTIMEZONE
BEGIN:VEVENT
DTSTART;TZID=UTC:20260817T080000
DTEND;TZID=UTC:20260820T170000
DTSTAMP:20260422T115830
CREATED:20260120T142611Z
LAST-MODIFIED:20260120T142611Z
UID:11528-1786953600-1787245200@cadda.org.ar
SUMMARY:PAN PACIFIC JUNIOR - NATACION
DESCRIPTION:CANADA – VANCOUVER \n2008 A 2013
URL:https://cadda.org.ar/event/pan-pacific-junior-natacion/
CATEGORIES:Natacion
END:VEVENT
END:VCALENDAR