BEGIN:VCALENDAR
VERSION:2.0
PRODID:-//Cadda - ECPv6.13.2.1//NONSGML v1.0//EN
CALSCALE:GREGORIAN
METHOD:PUBLISH
X-ORIGINAL-URL:https://cadda.org.ar
X-WR-CALDESC:Eventos para Cadda
REFRESH-INTERVAL;VALUE=DURATION:PT1H
X-Robots-Tag:noindex
X-PUBLISHED-TTL:PT1H
BEGIN:VTIMEZONE
TZID:UTC
BEGIN:STANDARD
TZOFFSETFROM:+0000
TZOFFSETTO:+0000
TZNAME:UTC
DTSTART:20260101T000000
END:STANDARD
END:VTIMEZONE
BEGIN:VEVENT
DTSTART;TZID=UTC:20261121T080000
DTEND;TZID=UTC:20261127T170000
DTSTAMP:20260422T121853
CREATED:20260120T143340Z
LAST-MODIFIED:20260120T143340Z
UID:11544-1795248000-1795798800@cadda.org.ar
SUMMARY:CAMPUS ABSOLUTO - NATACION
DESCRIPTION:CHINA TBD \nABSOLUTO
URL:https://cadda.org.ar/event/campus-absoluto-natacion/
CATEGORIES:Natacion
END:VEVENT
END:VCALENDAR