BEGIN:VCALENDAR
VERSION:2.0
PRODID:-//Cadda - ECPv6.13.2.1//NONSGML v1.0//EN
CALSCALE:GREGORIAN
METHOD:PUBLISH
X-ORIGINAL-URL:https://cadda.org.ar
X-WR-CALDESC:Eventos para Cadda
REFRESH-INTERVAL;VALUE=DURATION:PT1H
X-Robots-Tag:noindex
X-PUBLISHED-TTL:PT1H
BEGIN:VTIMEZONE
TZID:UTC
BEGIN:STANDARD
TZOFFSETFROM:+0000
TZOFFSETTO:+0000
TZNAME:UTC
DTSTART:20260101T000000
END:STANDARD
END:VTIMEZONE
BEGIN:VEVENT
DTSTART;TZID=UTC:20260801T080000
DTEND;TZID=UTC:20260811T170000
DTSTAMP:20260422T101851
CREATED:20260120T142336Z
LAST-MODIFIED:20260120T142336Z
UID:11524-1785571200-1786467600@cadda.org.ar
SUMMARY:CAMPUS ADAPTACION - NATACION
DESCRIPTION:USA – CALIFORNIA \nABSOLUTO
URL:https://cadda.org.ar/event/campus-adaptacion-natacion/
CATEGORIES:Natacion
END:VEVENT
END:VCALENDAR