BEGIN:VCALENDAR
VERSION:2.0
PRODID:-//Cadda - ECPv6.13.2.1//NONSGML v1.0//EN
CALSCALE:GREGORIAN
METHOD:PUBLISH
X-WR-CALNAME:Cadda
X-ORIGINAL-URL:https://cadda.org.ar
X-WR-CALDESC:Eventos para Cadda
REFRESH-INTERVAL;VALUE=DURATION:PT1H
X-Robots-Tag:noindex
X-PUBLISHED-TTL:PT1H
BEGIN:VTIMEZONE
TZID:UTC
BEGIN:STANDARD
TZOFFSETFROM:+0000
TZOFFSETTO:+0000
TZNAME:UTC
DTSTART:20240101T000000
END:STANDARD
END:VTIMEZONE
BEGIN:VEVENT
DTSTART;TZID=UTC:20240829T080000
DTEND;TZID=UTC:20240831T170000
DTSTAMP:20260423T203917
CREATED:20231130T181921Z
LAST-MODIFIED:20240729T154235Z
UID:9681-1724918400-1725123600@cadda.org.ar
SUMMARY:CAMPEONATO SELECTIVO PARA SUDAMERICANO ABSOLUTO CALI COLOMBIA
DESCRIPTION:
URL:https://cadda.org.ar/event/campeonato-selectivo-para-sudamericano-absoluto-cali-colombia/
LOCATION:Parque Roca\, Parque Roca\, CABA\, Buenos Aires\, Argentina
CATEGORIES:Natacion
END:VEVENT
END:VCALENDAR