BEGIN:VCALENDAR
VERSION:2.0
PRODID:-//Cadda - ECPv6.13.2.1//NONSGML v1.0//EN
CALSCALE:GREGORIAN
METHOD:PUBLISH
X-ORIGINAL-URL:https://cadda.org.ar
X-WR-CALDESC:Eventos para Cadda
REFRESH-INTERVAL;VALUE=DURATION:PT1H
X-Robots-Tag:noindex
X-PUBLISHED-TTL:PT1H
BEGIN:VTIMEZONE
TZID:UTC
BEGIN:STANDARD
TZOFFSETFROM:+0000
TZOFFSETTO:+0000
TZNAME:UTC
DTSTART:20260101T000000
END:STANDARD
END:VTIMEZONE
BEGIN:VEVENT
DTSTART;TZID=UTC:20260302T080000
DTEND;TZID=UTC:20260304T170000
DTSTAMP:20260425T235108
CREATED:20260120T144102Z
LAST-MODIFIED:20260120T144102Z
UID:11560-1772438400-1772643600@cadda.org.ar
SUMMARY:CBDA SUR PORTO ALEGRE - AGUAS ABIERTAS
DESCRIPTION:BRASIL – PORTO ALEGRE \nJUVENIL MAYOR
URL:https://cadda.org.ar/event/cbda-sur-porto-alegre-aguas-abiertas/
CATEGORIES:Aguas Abiertas
END:VEVENT
BEGIN:VEVENT
DTSTART;VALUE=DATE:20260321
DTEND;VALUE=DATE:20260322
DTSTAMP:20260425T235108
CREATED:20260120T144217Z
LAST-MODIFIED:20260120T144217Z
UID:11562-1774051200-1774137599@cadda.org.ar
SUMMARY:CAMPEONATO ARGENTINO FECHA 3 - AGUAS ABIERTAS - SAN JUAN
DESCRIPTION:SAN JUAN \nJUVENIL MAYOR
URL:https://cadda.org.ar/event/campeonato-argentino-fecha-3-aguas-abiertas-san-juan/
CATEGORIES:Aguas Abiertas
END:VEVENT
END:VCALENDAR