BEGIN:VCALENDAR
VERSION:2.0
PRODID:-//Cadda - ECPv6.13.2.1//NONSGML v1.0//EN
CALSCALE:GREGORIAN
METHOD:PUBLISH
X-ORIGINAL-URL:https://cadda.org.ar
X-WR-CALDESC:Eventos para Cadda
REFRESH-INTERVAL;VALUE=DURATION:PT1H
X-Robots-Tag:noindex
X-PUBLISHED-TTL:PT1H
BEGIN:VTIMEZONE
TZID:UTC
BEGIN:STANDARD
TZOFFSETFROM:+0000
TZOFFSETTO:+0000
TZNAME:UTC
DTSTART:20250101T000000
END:STANDARD
END:VTIMEZONE
BEGIN:VEVENT
DTSTART;TZID=UTC:20250211T080000
DTEND;TZID=UTC:20250211T170000
DTSTAMP:20260422T012354
CREATED:20250211T154344Z
LAST-MODIFIED:20250211T154344Z
UID:10786-1739260800-1739293200@cadda.org.ar
SUMMARY:POLO ACUATICO - Torneo Abierto Sub 13 Mixto \, Masculino \, Femenino
DESCRIPTION:FEDERACION ROSARINA DE NATACION \nCLUB ATLETICO PROVINCIAL
URL:https://cadda.org.ar/event/polo-acuatico-torneo-abierto-sub-13-mixto-masculino-femenino/
LOCATION:CLUB ATLETICO PROVINCIAL ROSARIO\, Blvd. 27 de Febrero 2672\, Rosario\, Santa Fe\, S2000\, Argentina
CATEGORIES:Polo
ORGANIZER;CN="FRN":MAILTO:frnatacion@gmail.com
END:VEVENT
END:VCALENDAR