BEGIN:VCALENDAR
VERSION:2.0
PRODID:-//Cadda - ECPv6.13.2.1//NONSGML v1.0//EN
CALSCALE:GREGORIAN
METHOD:PUBLISH
X-WR-CALNAME:Cadda
X-ORIGINAL-URL:https://cadda.org.ar
X-WR-CALDESC:Eventos para Cadda
REFRESH-INTERVAL;VALUE=DURATION:PT1H
X-Robots-Tag:noindex
X-PUBLISHED-TTL:PT1H
BEGIN:VTIMEZONE
TZID:UTC
BEGIN:STANDARD
TZOFFSETFROM:+0000
TZOFFSETTO:+0000
TZNAME:UTC
DTSTART:20240101T000000
END:STANDARD
END:VTIMEZONE
BEGIN:VEVENT
DTSTART;TZID=UTC:20240906T080000
DTEND;TZID=UTC:20240908T170000
DTSTAMP:20260422T092023
CREATED:20240805T165225Z
LAST-MODIFIED:20240805T165523Z
UID:10416-1725609600-1725814800@cadda.org.ar
SUMMARY:POLO ACUATICO - CAMP. REPUBLICA SUB 15 MIXTO
DESCRIPTION:Sede FESANA\,\nPiscina del Club de Regatas de Santa Fe.
URL:https://cadda.org.ar/event/polo-acuatico-camp-republica-sub-15-mixto/
LOCATION:SANTA FE\, SANTA FE
CATEGORIES:Polo
END:VEVENT
END:VCALENDAR