BEGIN:VCALENDAR
VERSION:2.0
PRODID:-//Cadda - ECPv6.13.2.1//NONSGML v1.0//EN
CALSCALE:GREGORIAN
METHOD:PUBLISH
X-ORIGINAL-URL:https://cadda.org.ar
X-WR-CALDESC:Eventos para Cadda
REFRESH-INTERVAL;VALUE=DURATION:PT1H
X-Robots-Tag:noindex
X-PUBLISHED-TTL:PT1H
BEGIN:VTIMEZONE
TZID:UTC
BEGIN:STANDARD
TZOFFSETFROM:+0000
TZOFFSETTO:+0000
TZNAME:UTC
DTSTART:20260101T000000
END:STANDARD
END:VTIMEZONE
BEGIN:VEVENT
DTSTART;TZID=UTC:20260701T080000
DTEND;TZID=UTC:20260717T170000
DTSTAMP:20260420T010225
CREATED:20260120T142119Z
LAST-MODIFIED:20260120T142119Z
UID:11520-1782892800-1784307600@cadda.org.ar
SUMMARY:CAMPUS ALTITUD - NATACION
DESCRIPTION:COL/MEX \nTBD \nJUVENIL
URL:https://cadda.org.ar/event/campus-altitud-natacion/
CATEGORIES:Natacion
END:VEVENT
BEGIN:VEVENT
DTSTART;TZID=UTC:20260708T080000
DTEND;TZID=UTC:20260712T170000
DTSTAMP:20260420T010225
CREATED:20260120T142031Z
LAST-MODIFIED:20260120T142031Z
UID:11518-1783497600-1783875600@cadda.org.ar
SUMMARY:PANAMERICANO PANAM AQUATICS - NATACION
DESCRIPTION:COLOMBIA – IBAGUE \n2004 A 2013
URL:https://cadda.org.ar/event/panamericano-panam-aquatics-natacion/
CATEGORIES:Natacion
END:VEVENT
BEGIN:VEVENT
DTSTART;TZID=UTC:20260713T080000
DTEND;TZID=UTC:20260801T170000
DTSTAMP:20260420T010225
CREATED:20260120T142217Z
LAST-MODIFIED:20260120T142217Z
UID:11522-1783929600-1785603600@cadda.org.ar
SUMMARY:CAMPUS ALTITUD - NATACION
DESCRIPTION:MEXICO – SAN LUIS POTOSI \nABSOLUTO
URL:https://cadda.org.ar/event/campus-altitud-natacion-2/
CATEGORIES:Natacion
END:VEVENT
END:VCALENDAR