BEGIN:VCALENDAR
VERSION:2.0
PRODID:-//Cadda - ECPv6.13.2.1//NONSGML v1.0//EN
CALSCALE:GREGORIAN
METHOD:PUBLISH
X-ORIGINAL-URL:https://cadda.org.ar
X-WR-CALDESC:Eventos para Cadda
REFRESH-INTERVAL;VALUE=DURATION:PT1H
X-Robots-Tag:noindex
X-PUBLISHED-TTL:PT1H
BEGIN:VTIMEZONE
TZID:UTC
BEGIN:STANDARD
TZOFFSETFROM:+0000
TZOFFSETTO:+0000
TZNAME:UTC
DTSTART:20260101T000000
END:STANDARD
END:VTIMEZONE
BEGIN:VEVENT
DTSTART;TZID=UTC:20260604T080000
DTEND;TZID=UTC:20260607T170000
DTSTAMP:20260419T233101
CREATED:20260120T141731Z
LAST-MODIFIED:20260120T141731Z
UID:11512-1780560000-1780851600@cadda.org.ar
SUMMARY:SZ SOUTH SECTIONAL - OPT1 - NATACION
DESCRIPTION:USA – OCALA \n2012+
URL:https://cadda.org.ar/event/sz-south-sectional-opt1-natacion/
CATEGORIES:Natacion
END:VEVENT
BEGIN:VEVENT
DTSTART;TZID=UTC:20260608T080000
DTEND;TZID=UTC:20260613T170000
DTSTAMP:20260419T233101
CREATED:20260120T141809Z
LAST-MODIFIED:20260120T141809Z
UID:11514-1780905600-1781370000@cadda.org.ar
SUMMARY:CAMPUS - NATACION
DESCRIPTION:BUENOS AIRES \nABSOLUTO
URL:https://cadda.org.ar/event/campus-natacion-2/
CATEGORIES:Natacion
END:VEVENT
BEGIN:VEVENT
DTSTART;TZID=UTC:20260610T080000
DTEND;TZID=UTC:20260613T170000
DTSTAMP:20260419T233101
CREATED:20260120T141635Z
LAST-MODIFIED:20260209T151155Z
UID:11510-1781078400-1781370000@cadda.org.ar
SUMMARY:NACIONAL INFANTILES Y MENORES - NATACION
DESCRIPTION:TBD \n2013-2014-2015-2016
URL:https://cadda.org.ar/event/republica-infantiles-y-menores-natacion/
CATEGORIES:Natacion
END:VEVENT
BEGIN:VEVENT
DTSTART;TZID=UTC:20260618T080000
DTEND;TZID=UTC:20260621T170000
DTSTAMP:20260419T233101
CREATED:20260120T141915Z
LAST-MODIFIED:20260120T141915Z
UID:11516-1781769600-1782061200@cadda.org.ar
SUMMARY:SFTL SPEEDO SUMMER CLASSIC - OPT 2 - NATACION
DESCRIPTION:USA – FT LAUDERDALE \n2012+
URL:https://cadda.org.ar/event/sftl-speedo-summer-classic-opt-2-natacion/
CATEGORIES:Natacion
END:VEVENT
END:VCALENDAR