BEGIN:VCALENDAR
VERSION:2.0
PRODID:-//Cadda - ECPv6.13.2.1//NONSGML v1.0//EN
CALSCALE:GREGORIAN
METHOD:PUBLISH
X-WR-CALNAME:Cadda
X-ORIGINAL-URL:https://cadda.org.ar
X-WR-CALDESC:Eventos para Cadda
REFRESH-INTERVAL;VALUE=DURATION:PT1H
X-Robots-Tag:noindex
X-PUBLISHED-TTL:PT1H
BEGIN:VTIMEZONE
TZID:UTC
BEGIN:STANDARD
TZOFFSETFROM:+0000
TZOFFSETTO:+0000
TZNAME:UTC
DTSTART:20250101T000000
END:STANDARD
END:VTIMEZONE
BEGIN:VEVENT
DTSTART;TZID=UTC:20250606T080000
DTEND;TZID=UTC:20250607T170000
DTSTAMP:20260420T201359
CREATED:20250120T134756Z
LAST-MODIFIED:20250211T145657Z
UID:10715-1749196800-1749315600@cadda.org.ar
SUMMARY:NATACION - CAMPEONATO NACIONAL DE CADETES
DESCRIPTION:06/06/2025 AL 07/06/2025 Sede a designar
URL:https://cadda.org.ar/event/cammpeonato-nacional-de-cadetes/
CATEGORIES:Natacion,Natacion - Nacional
END:VEVENT
BEGIN:VEVENT
DTSTART;TZID=UTC:20250613T080000
DTEND;TZID=UTC:20250614T170000
DTSTAMP:20260420T201359
CREATED:20250120T134850Z
LAST-MODIFIED:20250211T145648Z
UID:10717-1749801600-1749920400@cadda.org.ar
SUMMARY:NATACION - CAMPEONATO NACIONAL JUVENIL
DESCRIPTION:13/06/2025 AL 14/06/2025 Sede a designar
URL:https://cadda.org.ar/event/campeonato-nacional-juvenil/
CATEGORIES:Natacion,Natacion - Nacional
END:VEVENT
END:VCALENDAR