BEGIN:VCALENDAR
VERSION:2.0
PRODID:-//Cadda - ECPv6.13.2.1//NONSGML v1.0//EN
CALSCALE:GREGORIAN
METHOD:PUBLISH
X-ORIGINAL-URL:https://cadda.org.ar
X-WR-CALDESC:Eventos para Cadda
REFRESH-INTERVAL;VALUE=DURATION:PT1H
X-Robots-Tag:noindex
X-PUBLISHED-TTL:PT1H
BEGIN:VTIMEZONE
TZID:UTC
BEGIN:STANDARD
TZOFFSETFROM:+0000
TZOFFSETTO:+0000
TZNAME:UTC
DTSTART:20250101T000000
END:STANDARD
END:VTIMEZONE
BEGIN:VEVENT
DTSTART;TZID=UTC:20250521T080000
DTEND;TZID=UTC:20250524T170000
DTSTAMP:20260420T220455
CREATED:20250120T134706Z
LAST-MODIFIED:20250211T145712Z
UID:10713-1747814400-1748106000@cadda.org.ar
SUMMARY:NATACION - CAMPEONATO NACIONAL INFANTIL
DESCRIPTION:21/05/2025 al 24/05/2025 – Santiago del Estero
URL:https://cadda.org.ar/event/campeonato-nacional-infantil/
LOCATION:SANTIAGO DEL ESTERO\, Avenida Alsina 13\, SANTIAGO DEL ESTERO\, SANTIAGO DEL ESTERO\, 4200\, Argentina
CATEGORIES:Natacion,Natacion - Nacional
END:VEVENT
END:VCALENDAR