BEGIN:VCALENDAR
VERSION:2.0
PRODID:-//Cadda - ECPv6.13.2.1//NONSGML v1.0//EN
CALSCALE:GREGORIAN
METHOD:PUBLISH
X-ORIGINAL-URL:https://cadda.org.ar
X-WR-CALDESC:Eventos para Cadda
REFRESH-INTERVAL;VALUE=DURATION:PT1H
X-Robots-Tag:noindex
X-PUBLISHED-TTL:PT1H
BEGIN:VTIMEZONE
TZID:UTC
BEGIN:STANDARD
TZOFFSETFROM:+0000
TZOFFSETTO:+0000
TZNAME:UTC
DTSTART:20260101T000000
END:STANDARD
END:VTIMEZONE
BEGIN:VEVENT
DTSTART;VALUE=DATE:20261128
DTEND;VALUE=DATE:20261129
DTSTAMP:20260420T045210
CREATED:20260210T141858Z
LAST-MODIFIED:20260210T141858Z
UID:11658-1795824000-1795910399@cadda.org.ar
SUMMARY:ENCUENTRO NACIONAL ESCUELAS - ARTISTICA
DESCRIPTION:
URL:https://cadda.org.ar/event/encuentro-nacional-escuelas-artistica/
CATEGORIES:Artistica
END:VEVENT
END:VCALENDAR