BEGIN:VCALENDAR
VERSION:2.0
PRODID:-//Cadda - ECPv6.13.2.1//NONSGML v1.0//EN
CALSCALE:GREGORIAN
METHOD:PUBLISH
X-WR-CALNAME:Cadda
X-ORIGINAL-URL:https://cadda.org.ar
X-WR-CALDESC:Eventos para Cadda
REFRESH-INTERVAL;VALUE=DURATION:PT1H
X-Robots-Tag:noindex
X-PUBLISHED-TTL:PT1H
BEGIN:VTIMEZONE
TZID:UTC
BEGIN:STANDARD
TZOFFSETFROM:+0000
TZOFFSETTO:+0000
TZNAME:UTC
DTSTART:20260101T000000
END:STANDARD
END:VTIMEZONE
BEGIN:VEVENT
DTSTART;TZID=UTC:20260412T080000
DTEND;TZID=UTC:20260419T170000
DTSTAMP:20260419T195318
CREATED:20260116T185055Z
LAST-MODIFIED:20260116T185055Z
UID:11491-1775980800-1776618000@cadda.org.ar
SUMMARY:ODESUR JUVENIL - NATACION - PANAMA
DESCRIPTION:PANAMA \nCATEGORIAS 2009-2010-2011
URL:https://cadda.org.ar/event/odesur-juvenil-natacion-panama/
CATEGORIES:Natacion
END:VEVENT
BEGIN:VEVENT
DTSTART;TZID=UTC:20260419T080000
DTEND;TZID=UTC:20260425T170000
DTSTAMP:20260419T195318
CREATED:20260120T145528Z
LAST-MODIFIED:20260120T145528Z
UID:11569-1776585600-1777136400@cadda.org.ar
SUMMARY:ODESUR JUVENIL - PANAMA -  AGUAS ABIERTAS
DESCRIPTION:PANAMA
URL:https://cadda.org.ar/event/odesur-juvenil-panama-aguas-abiertas/
CATEGORIES:Aguas Abiertas
END:VEVENT
END:VCALENDAR